BEGIN:VCALENDAR
VERSION:2.0
PRODID:Events Booking
BEGIN:VEVENT
UID:69e80c35e00f9
SUMMARY:SSL Poetry Lab - June 2026 
DESCRIPTION:Want to write more poetry? Commit to a \"Poem a Day\" with week
 ly accountability! In this class\, you'll receive prompts\, techniques\, a
 nd feedback to ensure you finish every week with seven fresh poems.
LOCATION:2531 S 400 E\, South Salt Lake\, UT 84115\, USA
DTSTART:20260626T003000Z
DTEND:20260717T020000Z
DTSTAMP:20260420T215744Z
ORGANIZER;CN=SSL Arts Council:MAILTO:arts@sslc.gov
GEO:40.713005;-111.886425
X-APPLE-STRUCTURED-LOCATION;VALUE=URI;X-ADDRESS=2531 S 400 E\, South Salt L
 ake\, UT 84115\, USA;X-APPLE-RADIUS=72;X-TITLE=South Salt Lake Community C
 enter:40.713005;-111.886425
END:VEVENT
END:VCALENDAR