BEGIN:VCALENDAR
VERSION:2.0
PRODID:Events Booking
BEGIN:VEVENT
UID:69e7f41c4be47
SUMMARY:Material | Katie Green & Wren Ross - Liminal Spaces
DESCRIPTION:A two person exhibit featuring Wren Ross and Katie Green\, on A
 pril 24 - May 22\, 2026. Opening night on April 24th.&nbsp\;
DTSTART:20260424T233000Z
DTEND:20260523T020000Z
DTSTAMP:20260421T040742Z
ORGANIZER;CN=SSL Arts Council:MAILTO:arts@sslc.gov
END:VEVENT
END:VCALENDAR